Package: mia Version: 1.17.11 Command: /Library/Frameworks/R.framework/Resources/bin/R CMD check --install=check:mia.install-out.txt --library=/Library/Frameworks/R.framework/Resources/library --no-vignettes --timings mia_1.17.11.tar.gz StartedAt: 2025-10-26 20:30:20 -0400 (Sun, 26 Oct 2025) EndedAt: 2025-10-26 20:43:50 -0400 (Sun, 26 Oct 2025) EllapsedTime: 810.2 seconds RetCode: 1 Status: ERROR CheckDir: mia.Rcheck Warnings: NA