Package: mia Version: 1.17.11 Command: /Library/Frameworks/R.framework/Resources/bin/R CMD build --keep-empty-dirs --no-resave-data mia StartedAt: 2025-10-26 17:11:43 -0400 (Sun, 26 Oct 2025) EndedAt: 2025-10-26 17:12:23 -0400 (Sun, 26 Oct 2025) EllapsedTime: 40.4 seconds RetCode: 0 Status: OK PackageFile: mia_1.17.11.tar.gz PackageFileSize: 2.64 MiB