Package: mia Version: 1.17.11 Command: rm -rf mia.buildbin-libdir && mkdir mia.buildbin-libdir && /Users/biocbuild/BBS/utils/build-universal.sh mia_1.17.11.tar.gz /Library/Frameworks/R.framework/Resources/bin/R mia.buildbin-libdir StartedAt: 2025-10-26 22:40:54 -0400 (Sun, 26 Oct 2025) EndedAt: 2025-10-26 22:41:20 -0400 (Sun, 26 Oct 2025) EllapsedTime: 25.5 seconds RetCode: 0 Status: OK PackageFile: mia_1.17.11.tgz PackageFileSize: 3.329 MiB