Package: miRspongeR Version: 2.14.0 Command: /Library/Frameworks/R.framework/Resources/bin/R CMD INSTALL miRspongeR StartedAt: 2025-10-31 15:54:12 -0400 (Fri, 31 Oct 2025) EndedAt: 2025-10-31 15:55:31 -0400 (Fri, 31 Oct 2025) EllapsedTime: 79.4 seconds RetCode: 0 Status: OK