Package: miRspongeR Version: 2.14.0 Command: /Library/Frameworks/R.framework/Resources/bin/R CMD check --install=check:miRspongeR.install-out.txt --library=/Library/Frameworks/R.framework/Resources/library --no-vignettes --timings miRspongeR_2.14.0.tar.gz StartedAt: 2025-11-03 22:34:05 -0500 (Mon, 03 Nov 2025) EndedAt: 2025-11-03 22:40:03 -0500 (Mon, 03 Nov 2025) EllapsedTime: 357.8 seconds RetCode: 0 Status: OK CheckDir: miRspongeR.Rcheck Warnings: 0