Package: miRspongeR Version: 2.14.0 Command: /Library/Frameworks/R.framework/Resources/bin/R CMD INSTALL miRspongeR StartedAt: 2025-11-10 15:26:31 -0500 (Mon, 10 Nov 2025) EndedAt: 2025-11-10 15:26:53 -0500 (Mon, 10 Nov 2025) EllapsedTime: 21.8 seconds RetCode: 0 Status: OK