Package: miRspongeR Version: 2.14.0 Command: /Library/Frameworks/R.framework/Resources/bin/R CMD check --install=check:miRspongeR.install-out.txt --library=/Library/Frameworks/R.framework/Resources/library --no-vignettes --timings miRspongeR_2.14.0.tar.gz StartedAt: 2025-11-10 21:03:16 -0500 (Mon, 10 Nov 2025) EndedAt: 2025-11-10 21:05:26 -0500 (Mon, 10 Nov 2025) EllapsedTime: 129.5 seconds RetCode: 0 Status: OK CheckDir: miRspongeR.Rcheck Warnings: 0