Package: miRspongeR Version: 2.14.0 Command: /Library/Frameworks/R.framework/Resources/bin/R CMD build --keep-empty-dirs --no-resave-data miRspongeR StartedAt: 2025-11-10 17:03:07 -0500 (Mon, 10 Nov 2025) EndedAt: 2025-11-10 17:05:20 -0500 (Mon, 10 Nov 2025) EllapsedTime: 133.5 seconds RetCode: 0 Status: OK PackageFile: miRspongeR_2.14.0.tar.gz PackageFileSize: 672.8 KiB