Package: miRspongeR Version: 2.14.0 Command: rm -rf miRspongeR.buildbin-libdir && mkdir miRspongeR.buildbin-libdir && /Users/biocbuild/BBS/utils/build-universal.sh miRspongeR_2.14.0.tar.gz /Library/Frameworks/R.framework/Resources/bin/R miRspongeR.buildbin-libdir StartedAt: 2025-11-10 23:27:20 -0500 (Mon, 10 Nov 2025) EndedAt: 2025-11-10 23:27:44 -0500 (Mon, 10 Nov 2025) EllapsedTime: 23.5 seconds RetCode: 0 Status: OK PackageFile: miRspongeR_2.14.0.tgz PackageFileSize: 914 KiB