Package: miRcomp Version: 1.39.1 Command: /home/biocbuild/bbs-3.22-bioc/R/bin/R CMD check --install=check:miRcomp.install-out.txt --library=/home/biocbuild/bbs-3.22-bioc/R/site-library --timings miRcomp_1.39.1.tar.gz StartedAt: 2025-10-03 01:40:45 -0400 (Fri, 03 Oct 2025) EndedAt: 2025-10-03 01:41:46 -0400 (Fri, 03 Oct 2025) EllapsedTime: 61.0 seconds RetCode: 0 Status: OK CheckDir: miRcomp.Rcheck Warnings: 0