Package: miRSM Version: 2.5.4 Command: /home/biocbuild/R/R/bin/R CMD INSTALL miRSM StartedAt: 2025-10-16 22:18:10 -0000 (Thu, 16 Oct 2025) EndedAt: 2025-10-16 22:19:52 -0000 (Thu, 16 Oct 2025) EllapsedTime: 101.8 seconds RetCode: 0 Status: OK