Package: miRSM Version: 2.5.4 Command: /home/biocbuild/R/R/bin/R CMD build --keep-empty-dirs --no-resave-data miRSM StartedAt: 2025-10-17 02:44:35 -0000 (Fri, 17 Oct 2025) EndedAt: 2025-10-17 02:47:01 -0000 (Fri, 17 Oct 2025) EllapsedTime: 146.1 seconds RetCode: 0 Status: OK PackageFile: miRSM_2.5.4.tar.gz PackageFileSize: 4.905 MiB