Package: miRSM Version: 2.5.4 Command: /home/biocbuild/bbs-3.22-bioc/R/bin/R CMD INSTALL miRSM StartedAt: 2025-09-29 15:57:10 -0400 (Mon, 29 Sep 2025) EndedAt: 2025-09-29 15:58:48 -0400 (Mon, 29 Sep 2025) EllapsedTime: 97.3 seconds RetCode: 0 Status: OK