Package: miRSM Version: 2.5.4 Command: /Library/Frameworks/R.framework/Resources/bin/R CMD INSTALL miRSM StartedAt: 2025-10-02 15:44:23 -0400 (Thu, 02 Oct 2025) EndedAt: 2025-10-02 15:46:05 -0400 (Thu, 02 Oct 2025) EllapsedTime: 102.0 seconds RetCode: 0 Status: OK