Package: miRSM Version: 2.5.4 Command: /Library/Frameworks/R.framework/Resources/bin/R CMD build --keep-empty-dirs --no-resave-data miRSM StartedAt: 2025-10-02 17:51:16 -0400 (Thu, 02 Oct 2025) EndedAt: 2025-10-02 17:54:15 -0400 (Thu, 02 Oct 2025) EllapsedTime: 179.4 seconds RetCode: 0 Status: OK PackageFile: miRSM_2.5.4.tar.gz PackageFileSize: 4.882 MiB