Package: miRSM Version: 2.5.4 Command: rm -rf miRSM.buildbin-libdir && mkdir miRSM.buildbin-libdir && /Users/biocbuild/BBS/utils/build-universal.sh miRSM_2.5.4.tar.gz /Library/Frameworks/R.framework/Resources/bin/R miRSM.buildbin-libdir StartedAt: 2025-10-03 02:07:43 -0400 (Fri, 03 Oct 2025) EndedAt: 2025-10-03 02:09:29 -0400 (Fri, 03 Oct 2025) EllapsedTime: 106.2 seconds RetCode: 0 Status: OK PackageFile: miRSM_2.5.4.tgz PackageFileSize: 5.161 MiB