Package: miRSM Version: 2.5.4 Command: /Library/Frameworks/R.framework/Resources/bin/R CMD INSTALL miRSM StartedAt: 2025-10-02 15:26:07 -0400 (Thu, 02 Oct 2025) EndedAt: 2025-10-02 15:26:35 -0400 (Thu, 02 Oct 2025) EllapsedTime: 27.8 seconds RetCode: 0 Status: OK