Package: miRNApath Version: 1.69.0 Command: /home/biocbuild/R/R/bin/R CMD INSTALL miRNApath StartedAt: 2025-10-16 21:12:08 -0000 (Thu, 16 Oct 2025) EndedAt: 2025-10-16 21:12:39 -0000 (Thu, 16 Oct 2025) EllapsedTime: 31.6 seconds RetCode: 0 Status: OK