Package: miRNApath Version: 1.69.0 Command: /home/biocbuild/R/R/bin/R CMD build --keep-empty-dirs --no-resave-data miRNApath StartedAt: 2025-10-17 02:44:28 -0000 (Fri, 17 Oct 2025) EndedAt: 2025-10-17 02:44:43 -0000 (Fri, 17 Oct 2025) EllapsedTime: 15.0 seconds RetCode: 0 Status: OK PackageFile: miRNApath_1.69.0.tar.gz PackageFileSize: 655.8 KiB