Package: miRNApath Version: 1.69.0 Command: rm -rf miRNApath.buildbin-libdir && mkdir miRNApath.buildbin-libdir && F:\biocbuild\bbs-3.22-bioc\R\bin\R.exe CMD INSTALL --build --library=miRNApath.buildbin-libdir miRNApath_1.69.0.tar.gz StartedAt: 2025-08-15 10:43:06 -0400 (Fri, 15 Aug 2025) EndedAt: 2025-08-15 10:43:21 -0400 (Fri, 15 Aug 2025) EllapsedTime: 14.7 seconds RetCode: 0 Status: OK PackageFile: miRNApath_1.69.0.zip PackageFileSize: 722 KiB