Package: miRNApath Version: 1.69.0 Command: /home/biocbuild/bbs-3.22-bioc/R/bin/R CMD INSTALL miRNApath StartedAt: 2025-10-19 15:05:53 -0400 (Sun, 19 Oct 2025) EndedAt: 2025-10-19 15:06:12 -0400 (Sun, 19 Oct 2025) EllapsedTime: 19.6 seconds RetCode: 0 Status: OK