Package: miRNApath Version: 1.69.0 Command: /Library/Frameworks/R.framework/Resources/bin/R CMD INSTALL miRNApath StartedAt: 2025-10-19 15:08:33 -0400 (Sun, 19 Oct 2025) EndedAt: 2025-10-19 15:09:07 -0400 (Sun, 19 Oct 2025) EllapsedTime: 34.3 seconds RetCode: 0 Status: OK