Package: miRNApath Version: 1.69.0 Command: rm -rf miRNApath.buildbin-libdir && mkdir miRNApath.buildbin-libdir && /Users/biocbuild/BBS/utils/build-universal.sh miRNApath_1.69.0.tar.gz /Library/Frameworks/R.framework/Resources/bin/R miRNApath.buildbin-libdir StartedAt: 2025-10-18 03:08:05 -0400 (Sat, 18 Oct 2025) EndedAt: 2025-10-18 03:08:12 -0400 (Sat, 18 Oct 2025) EllapsedTime: 6.9 seconds RetCode: 0 Status: OK PackageFile: miRNApath_1.69.0.tgz PackageFileSize: 833 KiB