Package: miRNApath Version: 1.69.0 Command: /Library/Frameworks/R.framework/Resources/bin/R CMD INSTALL miRNApath StartedAt: 2025-10-17 15:02:48 -0400 (Fri, 17 Oct 2025) EndedAt: 2025-10-17 15:02:57 -0400 (Fri, 17 Oct 2025) EllapsedTime: 9.3 seconds RetCode: 0 Status: OK