Package: miQC Version: 1.18.0 Command: /Library/Frameworks/R.framework/Resources/bin/R CMD INSTALL miQC StartedAt: 2025-11-10 15:15:37 -0500 (Mon, 10 Nov 2025) EndedAt: 2025-11-10 15:15:47 -0500 (Mon, 10 Nov 2025) EllapsedTime: 10.0 seconds RetCode: 0 Status: OK