Package: methylumi Version: 2.55.0 Command: rm -rf methylumi.buildbin-libdir && mkdir methylumi.buildbin-libdir && F:\biocbuild\bbs-3.22-bioc\R\bin\R.exe CMD INSTALL --build --library=methylumi.buildbin-libdir methylumi_2.55.0.tar.gz StartedAt: 2025-08-15 10:41:19 -0400 (Fri, 15 Aug 2025) EndedAt: 2025-08-15 10:43:39 -0400 (Fri, 15 Aug 2025) EllapsedTime: 140.6 seconds RetCode: 0 Status: OK PackageFile: methylumi_2.55.0.zip PackageFileSize: 8.395 MiB