Package: methylscaper Version: 1.17.0 Command: /Library/Frameworks/R.framework/Resources/bin/R CMD build --keep-empty-dirs --no-resave-data methylscaper StartedAt: 2025-10-16 18:29:14 -0400 (Thu, 16 Oct 2025) EndedAt: 2025-10-16 18:31:46 -0400 (Thu, 16 Oct 2025) EllapsedTime: 151.8 seconds RetCode: 0 Status: OK PackageFile: methylscaper_1.17.0.tar.gz PackageFileSize: 4.031 MiB