Package: methylscaper Version: 1.17.0 Command: rm -rf methylscaper.buildbin-libdir && mkdir methylscaper.buildbin-libdir && /Users/biocbuild/BBS/utils/build-universal.sh methylscaper_1.17.0.tar.gz /Library/Frameworks/R.framework/Resources/bin/R methylscaper.buildbin-libdir StartedAt: 2025-10-17 03:59:33 -0400 (Fri, 17 Oct 2025) EndedAt: 2025-10-17 04:00:16 -0400 (Fri, 17 Oct 2025) EllapsedTime: 43.5 seconds RetCode: 0 Status: OK PackageFile: methylscaper_1.17.0.tgz PackageFileSize: 3.198 MiB