Package: methylscaper Version: 1.18.0 Command: /Library/Frameworks/R.framework/Resources/bin/R CMD check --install=check:methylscaper.install-out.txt --library=/Library/Frameworks/R.framework/Resources/library --no-vignettes --timings methylscaper_1.18.0.tar.gz StartedAt: 2025-11-05 21:11:08 -0500 (Wed, 05 Nov 2025) EndedAt: 2025-11-05 21:12:25 -0500 (Wed, 05 Nov 2025) EllapsedTime: 76.9 seconds RetCode: 0 Status: OK CheckDir: methylscaper.Rcheck Warnings: 0