Package: methylclock Version: 1.15.0 Command: /home/biocbuild/bbs-3.22-bioc/R/bin/R CMD INSTALL methylclock StartedAt: 2025-10-19 15:50:48 -0400 (Sun, 19 Oct 2025) EndedAt: 2025-10-19 15:51:59 -0400 (Sun, 19 Oct 2025) EllapsedTime: 71.5 seconds RetCode: 0 Status: OK