Package: methylclock Version: 1.15.0 Command: /home/biocbuild/bbs-3.22-bioc/R/bin/R CMD build --keep-empty-dirs --no-resave-data --md5 methylclock StartedAt: 2025-10-19 18:35:43 -0400 (Sun, 19 Oct 2025) EndedAt: 2025-10-19 18:44:32 -0400 (Sun, 19 Oct 2025) EllapsedTime: 528.4 seconds RetCode: 0 Status: OK PackageFile: methylclock_1.15.0.tar.gz PackageFileSize: 1.12 MiB