Package: methylPipe Version: 1.43.1 Command: /home/biocbuild/bbs-3.22-bioc/R/bin/R CMD INSTALL methylPipe StartedAt: 2025-10-20 15:45:03 -0400 (Mon, 20 Oct 2025) EndedAt: 2025-10-20 15:45:56 -0400 (Mon, 20 Oct 2025) EllapsedTime: 53.3 seconds RetCode: 0 Status: OK