Package: methylPipe Version: 1.43.1 Command: /home/biocbuild/bbs-3.22-bioc/R/bin/R CMD build --keep-empty-dirs --no-resave-data --md5 methylPipe StartedAt: 2025-10-19 18:37:34 -0400 (Sun, 19 Oct 2025) EndedAt: 2025-10-19 18:39:57 -0400 (Sun, 19 Oct 2025) EllapsedTime: 143.1 seconds RetCode: 0 Status: OK PackageFile: methylPipe_1.43.1.tar.gz PackageFileSize: 796 KiB