Package: methylPipe Version: 1.43.1 Command: /Library/Frameworks/R.framework/Resources/bin/R CMD INSTALL methylPipe StartedAt: 2025-10-24 15:51:04 -0400 (Fri, 24 Oct 2025) EndedAt: 2025-10-24 15:52:20 -0400 (Fri, 24 Oct 2025) EllapsedTime: 76.2 seconds RetCode: 0 Status: OK