Package: methylPipe Version: 1.43.1 Command: /Library/Frameworks/R.framework/Resources/bin/R CMD check --install=check:methylPipe.install-out.txt --library=/Library/Frameworks/R.framework/Resources/library --no-vignettes --timings methylPipe_1.43.1.tar.gz StartedAt: 2025-10-24 22:25:46 -0400 (Fri, 24 Oct 2025) EndedAt: 2025-10-24 22:34:18 -0400 (Fri, 24 Oct 2025) EllapsedTime: 511.9 seconds RetCode: 0 Status: WARNINGS CheckDir: methylPipe.Rcheck Warnings: 2