Package: methylPipe Version: 1.43.1 Command: /Library/Frameworks/R.framework/Resources/bin/R CMD INSTALL methylPipe StartedAt: 2025-10-20 15:25:34 -0400 (Mon, 20 Oct 2025) EndedAt: 2025-10-20 15:25:56 -0400 (Mon, 20 Oct 2025) EllapsedTime: 22.1 seconds RetCode: 0 Status: OK