Package: methylPipe Version: 1.43.1 Command: /Library/Frameworks/R.framework/Resources/bin/R CMD check --install=check:methylPipe.install-out.txt --library=/Library/Frameworks/R.framework/Resources/library --no-vignettes --timings methylPipe_1.43.1.tar.gz StartedAt: 2025-10-20 20:38:35 -0400 (Mon, 20 Oct 2025) EndedAt: 2025-10-20 20:41:37 -0400 (Mon, 20 Oct 2025) EllapsedTime: 181.2 seconds RetCode: 0 Status: WARNINGS CheckDir: methylPipe.Rcheck Warnings: 2