Package: methylMnM Version: 1.47.0 Command: /home/biocbuild/R/R/bin/R CMD INSTALL methylMnM StartedAt: 2025-10-16 21:10:04 -0000 (Thu, 16 Oct 2025) EndedAt: 2025-10-16 21:10:48 -0000 (Thu, 16 Oct 2025) EllapsedTime: 43.8 seconds RetCode: 0 Status: OK