Package: methylMnM Version: 1.47.0 Command: /home/biocbuild/R/R/bin/R CMD check --install=check:methylMnM.install-out.txt --library=/home/biocbuild/R/R/site-library --no-vignettes --timings methylMnM_1.47.0.tar.gz StartedAt: 2025-10-17 10:56:10 -0000 (Fri, 17 Oct 2025) EndedAt: 2025-10-17 10:56:43 -0000 (Fri, 17 Oct 2025) EllapsedTime: 33.0 seconds RetCode: 0 Status: OK CheckDir: methylMnM.Rcheck Warnings: 0