Package: methylMnM Version: 1.47.0 Command: /home/biocbuild/R/R/bin/R CMD build --keep-empty-dirs --no-resave-data methylMnM StartedAt: 2025-10-17 02:36:36 -0000 (Fri, 17 Oct 2025) EndedAt: 2025-10-17 02:38:31 -0000 (Fri, 17 Oct 2025) EllapsedTime: 115.0 seconds RetCode: 0 Status: OK PackageFile: methylMnM_1.47.0.tar.gz PackageFileSize: 8.501 MiB