Package: methylMnM Version: 1.47.0 Command: chmod a+r methylMnM -R && F:\biocbuild\bbs-3.22-bioc\R\bin\R.exe CMD build --keep-empty-dirs --no-resave-data methylMnM StartedAt: 2025-08-14 21:24:05 -0400 (Thu, 14 Aug 2025) EndedAt: 2025-08-14 21:25:22 -0400 (Thu, 14 Aug 2025) EllapsedTime: 77.8 seconds RetCode: 0 Status: OK PackageFile: methylMnM_1.47.0.tar.gz PackageFileSize: 8.411 MiB