Package: methylMnM Version: 1.47.0 Command: rm -rf methylMnM.buildbin-libdir && mkdir methylMnM.buildbin-libdir && F:\biocbuild\bbs-3.22-bioc\R\bin\R.exe CMD INSTALL --build --library=methylMnM.buildbin-libdir methylMnM_1.47.0.tar.gz StartedAt: 2025-08-15 10:41:05 -0400 (Fri, 15 Aug 2025) EndedAt: 2025-08-15 10:41:33 -0400 (Fri, 15 Aug 2025) EllapsedTime: 28.4 seconds RetCode: 0 Status: OK PackageFile: methylMnM_1.47.0.zip PackageFileSize: 8.502 MiB