Package: methylMnM Version: 1.47.0 Command: /home/biocbuild/bbs-3.22-bioc/R/bin/R CMD INSTALL methylMnM StartedAt: 2025-10-19 15:04:22 -0400 (Sun, 19 Oct 2025) EndedAt: 2025-10-19 15:04:48 -0400 (Sun, 19 Oct 2025) EllapsedTime: 26.0 seconds RetCode: 0 Status: OK