Package: methylMnM Version: 1.47.0 Command: /Library/Frameworks/R.framework/Resources/bin/R CMD INSTALL methylMnM StartedAt: 2025-10-19 15:07:41 -0400 (Sun, 19 Oct 2025) EndedAt: 2025-10-19 15:08:12 -0400 (Sun, 19 Oct 2025) EllapsedTime: 31.3 seconds RetCode: 0 Status: OK