Package: methylMnM Version: 1.47.0 Command: /Library/Frameworks/R.framework/Resources/bin/R CMD build --keep-empty-dirs --no-resave-data methylMnM StartedAt: 2025-10-19 18:02:14 -0400 (Sun, 19 Oct 2025) EndedAt: 2025-10-19 18:03:42 -0400 (Sun, 19 Oct 2025) EllapsedTime: 87.6 seconds RetCode: 0 Status: OK PackageFile: methylMnM_1.47.0.tar.gz PackageFileSize: 8.509 MiB