Package: methylMnM Version: 1.47.0 Command: rm -rf methylMnM.buildbin-libdir && mkdir methylMnM.buildbin-libdir && /Users/biocbuild/BBS/utils/build-universal.sh methylMnM_1.47.0.tar.gz /Library/Frameworks/R.framework/Resources/bin/R methylMnM.buildbin-libdir StartedAt: 2025-10-20 03:18:17 -0400 (Mon, 20 Oct 2025) EndedAt: 2025-10-20 03:18:37 -0400 (Mon, 20 Oct 2025) EllapsedTime: 19.6 seconds RetCode: 0 Status: OK PackageFile: methylMnM_1.47.0.tgz PackageFileSize: 8.86 MiB