Package: methylMnM Version: 1.47.0 Command: rm -rf methylMnM.buildbin-libdir && mkdir methylMnM.buildbin-libdir && /Users/biocbuild/BBS/utils/build-universal.sh methylMnM_1.47.0.tar.gz /Library/Frameworks/R.framework/Resources/bin/R methylMnM.buildbin-libdir StartedAt: 2025-10-19 23:06:00 -0400 (Sun, 19 Oct 2025) EndedAt: 2025-10-19 23:06:06 -0400 (Sun, 19 Oct 2025) EllapsedTime: 6.1 seconds RetCode: 0 Status: OK PackageFile: methylMnM_1.47.0.tgz PackageFileSize: 8.86 MiB