Package: methylMnM Version: 1.47.0 Maintainer: Yan Zhou MaintainerEmail: zhouy1016 at 163.com git_url: https://git.bioconductor.org/packages/methylMnM git_branch: devel git_last_commit: 14d10a9 git_last_commit_date: 2025-04-15 10:26:59 -0400 (Tue, 15 Apr 2025)