Package: methylKit Version: 1.35.1 Command: /home/biocbuild/R/R/bin/R CMD INSTALL methylKit StartedAt: 2025-10-16 21:41:22 -0000 (Thu, 16 Oct 2025) EndedAt: 2025-10-16 21:42:45 -0000 (Thu, 16 Oct 2025) EllapsedTime: 82.7 seconds RetCode: 0 Status: OK