Package: methylKit Version: 1.35.1 Command: /home/biocbuild/R/R/bin/R CMD build --keep-empty-dirs --no-resave-data methylKit StartedAt: 2025-10-17 02:35:48 -0000 (Fri, 17 Oct 2025) EndedAt: 2025-10-17 02:37:40 -0000 (Fri, 17 Oct 2025) EllapsedTime: 112.0 seconds RetCode: 0 Status: OK PackageFile: methylKit_1.35.1.tar.gz PackageFileSize: 1.177 MiB